BEGIN:VCALENDAR
VERSION:2.0
PRODID:-//Joshua Simoes - ECPv6.15.20//NONSGML v1.0//EN
CALSCALE:GREGORIAN
METHOD:PUBLISH
X-WR-CALNAME:Joshua Simoes
X-ORIGINAL-URL:https://joshuasimoes.com
X-WR-CALDESC:Events for Joshua Simoes
REFRESH-INTERVAL;VALUE=DURATION:PT1H
X-Robots-Tag:noindex
X-PUBLISHED-TTL:PT1H
BEGIN:VTIMEZONE
TZID:Europe/London
BEGIN:DAYLIGHT
TZOFFSETFROM:+0000
TZOFFSETTO:+0100
TZNAME:BST
DTSTART:20230326T010000
END:DAYLIGHT
BEGIN:STANDARD
TZOFFSETFROM:+0100
TZOFFSETTO:+0000
TZNAME:GMT
DTSTART:20231029T010000
END:STANDARD
BEGIN:DAYLIGHT
TZOFFSETFROM:+0000
TZOFFSETTO:+0100
TZNAME:BST
DTSTART:20240331T010000
END:DAYLIGHT
BEGIN:STANDARD
TZOFFSETFROM:+0100
TZOFFSETTO:+0000
TZNAME:GMT
DTSTART:20241027T010000
END:STANDARD
BEGIN:DAYLIGHT
TZOFFSETFROM:+0000
TZOFFSETTO:+0100
TZNAME:BST
DTSTART:20250330T010000
END:DAYLIGHT
BEGIN:STANDARD
TZOFFSETFROM:+0100
TZOFFSETTO:+0000
TZNAME:GMT
DTSTART:20251026T010000
END:STANDARD
END:VTIMEZONE
BEGIN:VEVENT
DTSTART;TZID=Europe/London:20240901T163000
DTEND;TZID=Europe/London:20240901T170000
DTSTAMP:20260421T222844
CREATED:20240824T095948Z
LAST-MODIFIED:20240824T100409Z
UID:176-1725208200-1725210000@joshuasimoes.com
SUMMARY:St Paul's Cathedral
DESCRIPTION:We hold organ recitals on most Sundays at 4.30pm for half an hour. These free and unticketed concerts give our visitors a chance to hear our Grand Organ in action.
URL:https://joshuasimoes.com/event/recital-st-pauls-cathedral/
LOCATION:St Paul’s Cathedral\, St Paul's Churchyard\, London\, EC4M 8AD\, United Kingdom
CATEGORIES:Recital
ATTACH;FMTTYPE=image/jpeg:https://joshuasimoes.com/wp-content/uploads/2024/08/event-default.jpg
END:VEVENT
END:VCALENDAR